BEGIN:VCALENDAR
VERSION:2.0
PRODID:-//ChamberMaster//Event Calendar 2.0//EN
METHOD:PUBLISH
X-PUBLISHED-TTL:P3D
REFRESH-INTERVAL:P3D
CALSCALE:GREGORIAN
BEGIN:VEVENT
DTSTART;VALUE=DATE:20201009
DTEND;VALUE=DATE:20201010
TRANSP:TRANSPARENT
X-MICROSOFT-CDO-ALLDAYEVENT:TRUE
SUMMARY:10th Annual Trap Shoot
DESCRIPTION:Save the Date for the Knox County Chamber of Commerce's 10th Annual Trap Shoot! \n\n \n\nFriday\, October 9th at the Vincennes Gun Club!\n\n\n\nDownload the Sponsorship and Registration form here!
X-ALT-DESC;FMTTYPE=text/html:<p>Save the Date for the Knox County Chamber of Commerce&#39\;s 10th Annual Trap Shoot!&nbsp\;<br />\n&nbsp\;</p>\n\n<p>Friday\, October 9th at the Vincennes Gun Club!<br />\n<br />\n<strong>Download the Sponsorship and Registration form <a href="https://chambermaster.blob.core.windows.net/userfiles/UserFiles/chambers/3273/File/TrapShootRegistrationForm2020.pdf">here</a>!</strong></p>\n
LOCATION:
UID:e.3273.118
SEQUENCE:3
DTSTAMP:20260424T191815Z
URL:https://business.knoxcountychamber.com/events/details/10th-annual-trap-shoot-118
END:VEVENT

END:VCALENDAR
