BEGIN:VCALENDAR
VERSION:2.0
PRODID:-//ChamberMaster//Event Calendar 2.0//EN
METHOD:PUBLISH
X-PUBLISHED-TTL:P3D
REFRESH-INTERVAL:P3D
CALSCALE:GREGORIAN
BEGIN:VEVENT
DTSTART:20190416T220000Z
DTEND:20190417T010000Z
X-MICROSOFT-CDO-ALLDAYEVENT:FALSE
SUMMARY:2019 Annual Awards Dinner
DESCRIPTION:The Knox County Chamber of Commerce will be hosting the 103rd Annual Awards Dinner on Tuesday\, April 16\, 2019. The focus of the night will be to recognize individuals\, businesses and organizations that make our community special. There will be 7 prestigious awards given in the following categories: Large Business of the Year\, Small Business of the Year\, Woman in Business\, C. James McCormick Community Leader of the Year\, Educator of the Year\, Public Servant of the Year and Nonprofit of the Year.
X-ALT-DESC;FMTTYPE=text/html:<span style="font-family: Georgia\, &quot\;Times New Roman&quot\;\, Times\, serif\; font-size: 16px\;">The Knox County Chamber of Commerce will be hosting the 103rd Annual Awards Dinner on Tuesday\, April 16\, 2019.&nbsp\;The focus of the night will be to recognize individuals\, businesses and organizations that make our community special.&nbsp\;There will be 7 prestigious awards given in the following categories: Large Business of the Year\, Small Business of the Year\, Woman in Business\, C. James McCormick Community Leader of the Year\, Educator of the Year\, Public Servant of the Year and Nonprofit of the Year.&nbsp\;</span>
LOCATION:
UID:e.3273.38
SEQUENCE:3
DTSTAMP:20260425T223642Z
URL:https://business.knoxcountychamber.com/events/details/2019-annual-awards-dinner-38
END:VEVENT

END:VCALENDAR
