BEGIN:VCALENDAR
VERSION:2.0
PRODID:-//ChamberMaster//Event Calendar 2.0//EN
METHOD:PUBLISH
X-PUBLISHED-TTL:P3D
REFRESH-INTERVAL:P3D
CALSCALE:GREGORIAN
BEGIN:VEVENT
DTSTART:20191010T130000Z
DTEND:20191010T190000Z
X-MICROSOFT-CDO-ALLDAYEVENT:FALSE
SUMMARY:2019 Chamber Trap Shoot
DESCRIPTION:Sign up for the 9th Annual Chamber Trap Shoot! Find the registration form here!
X-ALT-DESC;FMTTYPE=text/html:Sign up for the 9th Annual Chamber Trap Shoot! Find the registration form <a href="https://files.constantcontact.com/c5ea4121701/94627379-3a30-4a15-95c8-a2cf94983224.pdf">here</a>!&nbsp\;
LOCATION:
UID:e.3273.47
SEQUENCE:3
DTSTAMP:20260425T133821Z
URL:https://business.knoxcountychamber.com/events/details/2019-chamber-trap-shoot-47
END:VEVENT

END:VCALENDAR
