BEGIN:VCALENDAR
VERSION:2.0
PRODID:-//ChamberMaster//Event Calendar 2.0//EN
METHOD:PUBLISH
X-PUBLISHED-TTL:P3D
REFRESH-INTERVAL:P3D
CALSCALE:GREGORIAN
BEGIN:VEVENT
DTSTART:20190803T120000Z
DTEND:20190804T000000Z
X-MICROSOFT-CDO-ALLDAYEVENT:FALSE
SUMMARY:2019 Watermelon Festival
DESCRIPTION:
X-ALT-DESC;FMTTYPE=text/html:
LOCATION:
UID:e.3273.42
SEQUENCE:3
DTSTAMP:20260425T160355Z
URL:https://business.knoxcountychamber.com/events/details/2019-watermelon-festival-42
END:VEVENT

END:VCALENDAR
