BEGIN:VCALENDAR
VERSION:2.0
PRODID:-//ChamberMaster//Event Calendar 2.0//EN
METHOD:PUBLISH
X-PUBLISHED-TTL:P3D
REFRESH-INTERVAL:P3D
CALSCALE:GREGORIAN
BEGIN:VEVENT
DTSTART:20200917T143000Z
DTEND:20200917T210000Z
X-MICROSOFT-CDO-ALLDAYEVENT:FALSE
SUMMARY:2020 Chamber Golf Outing
DESCRIPTION:Join us for our Annual Chamber Golf Outing on Thursday\, September 17th at High Pointe Country Club in Bicknell! \n\n\n\nDownload the Sponsorship and Registration form here!
X-ALT-DESC;FMTTYPE=text/html:Join us for our Annual Chamber Golf Outing on Thursday\, September 17th at High Pointe Country Club in Bicknell!&nbsp\;<br>\n<br>\n<span style="font-size:14px\;"><strong>Download the Sponsorship and Registration form <a href="https://chambermaster.blob.core.windows.net/userfiles/UserFiles/chambers/3273/File/GolfOutingRegistration.pdf">here</a>!&nbsp\;</strong></span>
LOCATION:
UID:e.3273.116
SEQUENCE:3
DTSTAMP:20260424T203905Z
URL:https://business.knoxcountychamber.com/events/details/2020-chamber-golf-outing-116
END:VEVENT

END:VCALENDAR
