BEGIN:VCALENDAR
VERSION:2.0
PRODID:-//ChamberMaster//Event Calendar 2.0//EN
METHOD:PUBLISH
X-PUBLISHED-TTL:P3D
REFRESH-INTERVAL:P3D
CALSCALE:GREGORIAN
BEGIN:VEVENT
DTSTART;VALUE=DATE:20210806
DTEND;VALUE=DATE:20210808
TRANSP:TRANSPARENT
X-MICROSOFT-CDO-ALLDAYEVENT:TRUE
SUMMARY:2021 Watermelon Festival
DESCRIPTION:Join us for the 2021 Watermelon Festival in Vincennes\, IN! \n\n\n\nThe festival will be held on August 6 & 7\, 2021 at Patrick Henry Square. The Watermelon Festival includes something for everyone\, including:\n\n- Farmer's Market\n\n- Queen & Baby Contest\n\n- Free State Entertainment\n\n- Food & Craft Vendors\n\n- 5k Run/Walk\n\n- 3 on 3 Basketball Tournament\n\n- Kids Fun Zone\n\n\n\nWe hope to see you there!
X-ALT-DESC;FMTTYPE=text/html:Join us for the 2021 Watermelon Festival in Vincennes\, IN!&nbsp\;<br />\n<br />\nThe festival will be held on August 6 &amp\; 7\, 2021 at Patrick Henry Square. The Watermelon Festival includes something for everyone\, including:<br />\n- Farmer&#39\;s Market<br />\n- Queen &amp\; Baby Contest<br />\n- Free State Entertainment<br />\n- Food &amp\; Craft Vendors<br />\n- 5k Run/Walk<br />\n- 3 on 3 Basketball Tournament<br />\n- Kids Fun Zone<br />\n<br />\nWe hope to see you there!&nbsp\;
LOCATION:
UID:e.3273.167
SEQUENCE:3
DTSTAMP:20260422T170407Z
URL:https://business.knoxcountychamber.com/events/details/2021-watermelon-festival-167
END:VEVENT

END:VCALENDAR
