BEGIN:VCALENDAR
VERSION:2.0
PRODID:-//ChamberMaster//Event Calendar 2.0//EN
METHOD:PUBLISH
X-PUBLISHED-TTL:P3D
REFRESH-INTERVAL:P3D
CALSCALE:GREGORIAN
BEGIN:VEVENT
DTSTART:20230923T130000Z
DTEND:20230923T170000Z
X-MICROSOFT-CDO-ALLDAYEVENT:FALSE
SUMMARY:2023 Touch-a-Truck
DESCRIPTION:Touch-A-Truck is back at Gregg Park! Prepare to see the wide smiles on your little ones' faces as they climb inside the driver's seat\, honk the horns\, and experience the thrill of sitting behind the wheel! Vehicles\, music\, popcorn\, drinks and an outdoor 3 on 3 Basketball Tournament! Bring the family and come out for another FREE Touch-a-Truck event!
X-ALT-DESC;FMTTYPE=text/html:Touch-A-Truck is back at Gregg Park! Prepare to see the wide smiles on your little ones&#39\; faces as they climb inside the driver&#39\;s seat\, honk the horns\, and experience the thrill of sitting behind the wheel! Vehicles\, music\, popcorn\, drinks and an outdoor 3 on 3 Basketball Tournament! Bring the family and come out for another FREE Touch-a-Truck event!
LOCATION:Gregg Park
UID:e.3273.3050
SEQUENCE:3
DTSTAMP:20260422T235711Z
URL:https://business.knoxcountychamber.com/events/details/2023-touch-a-truck-3050
END:VEVENT

END:VCALENDAR
