BEGIN:VCALENDAR
VERSION:2.0
PRODID:-//ChamberMaster//Event Calendar 2.0//EN
METHOD:PUBLISH
X-PUBLISHED-TTL:P3D
REFRESH-INTERVAL:P3D
CALSCALE:GREGORIAN
BEGIN:VEVENT
DTSTART:20210826T203000Z
DTEND:20210826T220000Z
X-MICROSOFT-CDO-ALLDAYEVENT:FALSE
SUMMARY:After Hours - United Way of Knox County Campaign Kickoff
DESCRIPTION:The 2021 United Way Campaign Kickoff will be held as a Chamber After Hours event at the Highland Woods Community Center on Thursday\, August 26 from 4:30-6 PM. The family friendly event will feature games and activities for children\, check presentations from our pacesetter campaigns\, partner agency tables with activities and information. \n\n\n\nThe event will feature the theme of this year's campaign "United to Thrive" as well as remarks from our Campaign Chair. A cotton candy and balloon theme will highlight the event as a preview for the April 2022 Big Balloon Build.
X-ALT-DESC;FMTTYPE=text/html:The 2021 United Way Campaign Kickoff will be held as a Chamber After Hours event at the Highland Woods Community Center on Thursday\, August 26 from 4:30-6 PM. The family friendly event will feature games and activities for children\, check presentations from our pacesetter campaigns\, partner agency tables with activities and information.&nbsp\;<br />\n<br />\nThe event will feature the theme of this year&#39\;s campaign &quot\;United to Thrive&quot\; as well as remarks from our Campaign Chair. A cotton candy and balloon theme will highlight the event as a preview for the April 2022 Big Balloon Build.&nbsp\;
LOCATION:
UID:e.3273.179
SEQUENCE:3
DTSTAMP:20260422T182709Z
URL:https://business.knoxcountychamber.com/events/details/after-hours-united-way-of-knox-county-campaign-kickoff-179
END:VEVENT

END:VCALENDAR
