BEGIN:VCALENDAR
VERSION:2.0
PRODID:-//ChamberMaster//Event Calendar 2.0//EN
METHOD:PUBLISH
X-PUBLISHED-TTL:P3D
REFRESH-INTERVAL:P3D
CALSCALE:GREGORIAN
BEGIN:VEVENT
DTSTART:20200619T153000Z
DTEND:20200619T161500Z
X-MICROSOFT-CDO-ALLDAYEVENT:FALSE
SUMMARY:Annual Awards Ceremony
DESCRIPTION:A Annual Awards Ceremony will be held virtually on Friday\, June 19 at 11:30 AM. This event is to celebrate businesses & people that make Knox County a great place to live. There will be 7 awards presented during the event:\n\n\n	Large Business of the Year\n	Small Business of the Year\n	Business Woman of the Year\n	C. James McCormick Community Leader of the Year\n	Educator of the Year\n	Public Servant of the Year\n	Nonprofit of the Year\n\n\nIf you would like to nominate an individual\, business or organization\, please do so by filling out our nomination form\, linked here. Nomination forms are due back to the Chamber office by Friday\, May 29.
X-ALT-DESC;FMTTYPE=text/html:<p style="margin: 0px 0px 20px\; padding: 0px\; border: 0px\; vertical-align: baseline\; font-size: 16px\; overflow-wrap: break-word\; color: rgb(47\, 65\, 81)\; line-height: 1.66em\; font-family: &quot\;Open Sans&quot\;\; background-color: rgba(175\, 175\, 175\, 0.4)\;">A Annual Awards Ceremony will be held virtually on Friday\, June 19 at 11:30 AM. This event is to celebrate businesses &amp\; people that make Knox County a great place to live. There will be 7 awards presented during the event:</p>\n\n<ul>\n	<li style="margin: 0px 0px 0px 0.85em\; padding: 0px\; border: 0px\; vertical-align: baseline\;">Large Business of the Year</li>\n	<li style="margin: 0px 0px 0px 0.85em\; padding: 0px\; border: 0px\; vertical-align: baseline\;">Small Business of the Year</li>\n	<li style="margin: 0px 0px 0px 0.85em\; padding: 0px\; border: 0px\; vertical-align: baseline\;">Business Woman of the Year</li>\n	<li style="margin: 0px 0px 0px 0.85em\; padding: 0px\; border: 0px\; vertical-align: baseline\;">C. James McCormick Community Leader of the Year</li>\n	<li style="margin: 0px 0px 0px 0.85em\; padding: 0px\; border: 0px\; vertical-align: baseline\;">Educator of the Year</li>\n	<li style="margin: 0px 0px 0px 0.85em\; padding: 0px\; border: 0px\; vertical-align: baseline\;">Public Servant of the Year</li>\n	<li style="margin: 0px 0px 0px 0.85em\; padding: 0px\; border: 0px\; vertical-align: baseline\;">Nonprofit of the Year</li>\n</ul>\n\n<div style="margin: 0px 0px 0px 0.85em\; padding: 0px\; border: 0px\; vertical-align: baseline\;">If you would like to nominate an individual\, business or organization\, please do so by filling out our nomination form\,<a href="https://files.constantcontact.com/c5ea4121701/9551dd78-e70e-41a2-aa6c-ac9201dd10cc.pdf"> linked here</a>. Nomination forms are due back to the Chamber office by Friday\, May 29.</div>\n
LOCATION:
UID:e.3273.108
SEQUENCE:3
DTSTAMP:20260425T010135Z
URL:https://business.knoxcountychamber.com/events/details/annual-awards-ceremony-108
END:VEVENT

END:VCALENDAR
