BEGIN:VCALENDAR
VERSION:2.0
PRODID:-//ChamberMaster//Event Calendar 2.0//EN
METHOD:PUBLISH
X-PUBLISHED-TTL:P3D
REFRESH-INTERVAL:P3D
CALSCALE:GREGORIAN
BEGIN:VEVENT
DTSTART;VALUE=DATE:20210429
DTEND;VALUE=DATE:20210430
TRANSP:TRANSPARENT
X-MICROSOFT-CDO-ALLDAYEVENT:TRUE
SUMMARY:Annual Awards Ceremony
DESCRIPTION:Our Annual Awards Ceremony will be held on Thursday\, April 29 at the Highland Woods Community Center. This event is to celebrate businesses & people that make Knox County a great place to live. There will be 7 awards presented during the event:\n\n- Large Business of the Year\n\n- Small Business of the Year\n\n- Business Woman of the Year\n\n- C. James McCormick Community Leader of the Year\n\n- Educator of the Year\n\n- Public Servant of the Year\n\n- Nonprofit of the Year\n\n\n\nTo purchase tickets\, please contact the Chamber at (812) 882-6440 or email at info@knoxcountychamber.com.
X-ALT-DESC;FMTTYPE=text/html:<div class="kvgmc6g5 cxmmr5t8 oygrvhab hcukyx3x c1et5uql" style="overflow-wrap: break-word\; margin: 0px\; font-family: &quot\;Segoe UI Historic&quot\;\, &quot\;Segoe UI&quot\;\, Helvetica\, Arial\, sans-serif\; color: rgb(5\, 5\, 5)\; font-size: 15px\;">Our Annual Awards Ceremony will be held on Thursday\, April 29 at the Highland Woods Community Center. This event is to celebrate businesses &amp\; people that make Knox County a great place to live. There will be 7 awards presented during the event:</div>\n\n<div class="o9v6fnle cxmmr5t8 oygrvhab hcukyx3x c1et5uql" style="overflow-wrap: break-word\; margin: 0.5em 0px 0px\; font-family: &quot\;Segoe UI Historic&quot\;\, &quot\;Segoe UI&quot\;\, Helvetica\, Arial\, sans-serif\; color: rgb(5\, 5\, 5)\; font-size: 15px\;">- Large Business of the Year<br />\n- Small Business of the Year<br />\n- Business Woman of the Year<br />\n- C. James McCormick Community Leader of the Year<br />\n- Educator of the Year<br />\n- Public Servant of the Year<br />\n- Nonprofit of the Year<br />\n<br />\nTo purchase tickets\, please contact the Chamber at (812) 882-6440 or email at info@knoxcountychamber.com.</div>\n
LOCATION:
UID:e.3273.144
SEQUENCE:3
DTSTAMP:20260424T112018Z
URL:https://business.knoxcountychamber.com/events/details/annual-awards-ceremony-144
END:VEVENT

END:VCALENDAR
