BEGIN:VCALENDAR
VERSION:2.0
PRODID:-//ChamberMaster//Event Calendar 2.0//EN
METHOD:PUBLISH
X-PUBLISHED-TTL:P3D
REFRESH-INTERVAL:P3D
CALSCALE:GREGORIAN
BEGIN:VEVENT
DTSTART:20240923T203000Z
DTEND:20240923T223000Z
X-MICROSOFT-CDO-ALLDAYEVENT:FALSE
SUMMARY:Back on Track
DESCRIPTION:Back to School event! Promoting immunizations\, free lead testing\, other community organizations! Free food truck vouchers! Kids activities!
X-ALT-DESC;FMTTYPE=text/html:Back to School event! Promoting immunizations\, free lead testing\, other community organizations! Free food truck vouchers! Kids activities!
LOCATION:Parking lot next to MCV
UID:e.3273.4704
SEQUENCE:3
DTSTAMP:20260419T182930Z
URL:https://business.knoxcountychamber.com/events/details/back-on-track-4704
END:VEVENT

END:VCALENDAR
