BEGIN:VCALENDAR
VERSION:2.0
PRODID:-//ChamberMaster//Event Calendar 2.0//EN
METHOD:PUBLISH
X-PUBLISHED-TTL:P3D
REFRESH-INTERVAL:P3D
CALSCALE:GREGORIAN
BEGIN:VEVENT
DTSTART:20240923T203000Z
DTEND:20240923T223000Z
X-MICROSOFT-CDO-ALLDAYEVENT:FALSE
SUMMARY:Back on Track Health Fair
DESCRIPTION:Back to school event for the whole family. More than 15 community organizations will be available with resources and information. Join us for free fun activities\, free school supplies\, lead testing\, immunizations\, and free Vincennes Food Trucks on the Wabash vouchers for the first 150 people who attend!
X-ALT-DESC;FMTTYPE=text/html:Back to school event for the whole family. More than 15 community organizations will be available with resources and information. Join us for free fun activities\, free school supplies\, lead testing\, immunizations\, and free Vincennes Food Trucks on the Wabash vouchers for the first 150 people who attend!
LOCATION:1st street parking lot next to the Medical Center of Vincennes
UID:e.3273.4714
SEQUENCE:3
DTSTAMP:20260419T181631Z
URL:https://business.knoxcountychamber.com/events/details/back-on-track-health-fair-4714
END:VEVENT

END:VCALENDAR
