BEGIN:VCALENDAR
VERSION:2.0
PRODID:-//ChamberMaster//Event Calendar 2.0//EN
METHOD:PUBLISH
X-PUBLISHED-TTL:P3D
REFRESH-INTERVAL:P3D
CALSCALE:GREGORIAN
BEGIN:VEVENT
DTSTART:20200429T193000Z
DTEND:20200429T203000Z
X-MICROSOFT-CDO-ALLDAYEVENT:FALSE
SUMMARY:"Back to Business" Meeting - Food & Beverage
DESCRIPTION:WE NEED TO HEAR FROM YOU!\n\nJoin us for a Food & Beverage Virtual Back to Business Meeting!\n\nWe need your input to identify impacts and challenges for small and large businesses locally regarding re-openings. Feedback from each industry meeting will then guide future workshops and available business assistance resources for reopening safely and confidently.\n\n\n\nThis Virtual Meeting is open to all Knox County businesses.\n\n\n\nA Zoom link will be sent out to all registrants. Registration for this event ends one hour prior to the event.
X-ALT-DESC;FMTTYPE=text/html:<span style="font-size: 16px\; color: rgb(43\, 43\, 43)\; font-family: &quot\;Myriad Pro&quot\;\, calibri\, arial\, sans-serif\;"><em><strong>WE NEED TO HEAR FROM YOU!</strong></em><br />\nJoin us for a Food &amp\; Beverage Virtual Back to Business Meeting!</span><br style="background-image: none\; background-position: initial\; background-size: initial\; background-repeat: initial\; background-attachment: initial\; background-origin: initial\; background-clip: initial\; box-sizing: content-box\; bottom: auto\; clear: none\; color: rgb(43\, 43\, 43)\; content: normal\; direction: inherit\; display: inline\; empty-cells: show\; float: none\; font-variant-numeric: inherit\; font-variant-east-asian: inherit\; font-stretch: inherit\; font-size: 20px\; font-family: &quot\;Myriad Pro&quot\;\, calibri\, arial\, sans-serif\; left: auto\; line-height: inherit\; margin: 0px\; max-height: none\; max-width: none\; min-height: initial\; min-width: initial\; opacity: 1\; outline-offset: 0px\; overflow: visible\; padding: 0px\; position: static\; resize: none\; right: auto\; table-layout: auto\; text-overflow: clip\; top: auto\; vertical-align: baseline\; visibility: inherit\; word-break: inherit\; overflow-wrap: inherit\; z-index: auto\; border: none\; border-collapse: separate\; border-radius: 0px\; height: auto\; width: auto\;" />\n<span style="font-size: 16px\; color: rgb(43\, 43\, 43)\; font-family: &quot\;Myriad Pro&quot\;\, calibri\, arial\, sans-serif\;">We need your input to identify impacts and challenges for small and large businesses locally regarding re-openings. Feedback from each industry meeting will then guide future workshops and available business assistance resources for reopening safely and confidently.<br />\n<br />\nThis Virtual Meeting is open to all Knox County businesses.</span><br style="color: rgb(43\, 43\, 43)\; font-family: &quot\;Myriad Pro&quot\;\, calibri\, arial\, sans-serif\; font-size: 16px\;" />\n<br style="color: rgb(43\, 43\, 43)\; font-family: &quot\;Myriad Pro&quot\;\, calibri\, arial\, sans-serif\; font-size: 16px\;" />\n<span style="font-size: 16px\; color: rgb(43\, 43\, 43)\; font-family: &quot\;Myriad Pro&quot\;\, calibri\, arial\, sans-serif\;">A Zoom link will be sent out to all registrants. Registration for this event ends one hour prior to the event.</span>
LOCATION:
UID:e.3273.104
SEQUENCE:3
DTSTAMP:20260425T042457Z
URL:https://business.knoxcountychamber.com/events/details/back-to-business-meeting-food-beverage-104
END:VEVENT

END:VCALENDAR
