BEGIN:VCALENDAR
VERSION:2.0
PRODID:-//ChamberMaster//Event Calendar 2.0//EN
METHOD:PUBLISH
X-PUBLISHED-TTL:P3D
REFRESH-INTERVAL:P3D
CALSCALE:GREGORIAN
BEGIN:VEVENT
DTSTART:20210311T163000Z
DTEND:20210311T173000Z
X-MICROSOFT-CDO-ALLDAYEVENT:FALSE
SUMMARY:Business Growth Series: Social Media
DESCRIPTION:Business Growth Series are an educational opportunity on various business topics ranging from discussions with entrepreneurs\, to Google training to leadership and much more.\n\n\n\nThis quarter's Business Growth Series will be focused on the in's and out's of Social Media. \n\n\n\nThis event will be held virtually via Zoom. A meeting link will be sent to all registrants prior to the event.
X-ALT-DESC;FMTTYPE=text/html:<span class="JsGRdQ" style="color: rgb(26\, 57\, 88)\;">Business Growth Series are an educational opportunity on various business topics ranging from discussions with entrepreneurs\, to Google training to leadership and much more.<br>\n<br>\nThis quarter's Business Growth Series will be focused on the in's and out's of Social Media.&nbsp\;<br>\n<br>\nThis event will be held virtually via Zoom. A meeting link will be sent to all registrants prior to the event.&nbsp\;</span>
LOCATION:
UID:e.3273.132
SEQUENCE:3
DTSTAMP:20260424T112300Z
URL:https://business.knoxcountychamber.com/events/details/business-growth-series-social-media-132
END:VEVENT

END:VCALENDAR
