BEGIN:VCALENDAR
VERSION:2.0
PRODID:-//ChamberMaster//Event Calendar 2.0//EN
METHOD:PUBLISH
X-PUBLISHED-TTL:P3D
REFRESH-INTERVAL:P3D
CALSCALE:GREGORIAN
BEGIN:VEVENT
DTSTART:20190523T193000Z
DTEND:20190523T223000Z
X-MICROSOFT-CDO-ALLDAYEVENT:FALSE
SUMMARY:Chamber After Hours
DESCRIPTION:Please join us in celebrating the 200th Year Anniversary of Kolb Roellgen & Kirchoff LLP!!!
X-ALT-DESC;FMTTYPE=text/html:Please join us in celebrating the 200th Year Anniversary of Kolb Roellgen &amp\; Kirchoff LLP!!!&nbsp\;
LOCATION:Kolb Roellgen & Kirchoff Office - 801 Busseron Street\, Vincennes\, IN\, 47591
UID:e.3273.50
SEQUENCE:3
DTSTAMP:20260425T215808Z
URL:https://business.knoxcountychamber.com/events/details/chamber-after-hours-50
END:VEVENT

END:VCALENDAR
