BEGIN:VCALENDAR
VERSION:2.0
PRODID:-//ChamberMaster//Event Calendar 2.0//EN
METHOD:PUBLISH
X-PUBLISHED-TTL:P3D
REFRESH-INTERVAL:P3D
CALSCALE:GREGORIAN
BEGIN:VEVENT
DTSTART:20210511T203000Z
DTEND:20210511T223000Z
X-MICROSOFT-CDO-ALLDAYEVENT:FALSE
SUMMARY:Chamber After Hours - National Tourism Week
DESCRIPTION:This event has been rescheduled due to rain. The event will now be on May 11.\n\n\n\nJoin us to celebrate National Tourism Week at a Chamber After Hours with the Vincennes/Knox County Visitors and Tourism Bureau and the Knox County Parks & Recreation Department!\n\n \n\nHead over to the Fox Ridge Nature Park on Tuesday\, May 11 from 4:30-6:30 p.m. and hit the trails! We encourage you to pack a picnic or grab your fishing pole and enjoy all this park has to offer!
X-ALT-DESC;FMTTYPE=text/html:<div style="font-family: Arial\; font-size: 14px\; white-space: pre-wrap\; text-align: center\;"><span style="font-size: 18px\;"><strong>This event has been rescheduled due to rain. The event will now be on May 11.</strong><br />\n<br />\nJoin us to celebrate National Tourism Week at a Chamber After Hours with the Vincennes/Knox County Visitors and Tourism Bureau and the Knox County Parks &amp\; Recreation Department!</span></div>\n\n<div style="font-family: Arial\; font-size: 14px\; white-space: pre-wrap\; text-align: center\;">&nbsp\;</div>\n\n<div style="font-family: Arial\; font-size: 14px\; white-space: pre-wrap\; text-align: center\;"><span style="font-size: 18px\;">Head over to the Fox Ridge Nature Park on </span><span style="font-size: 18px\; font-weight: bold\;">Tuesday\, May 11 from 4:30-6:30 p.m.</span><span style="font-size: 18px\;"> and hit the trails! We encourage you to pack a picnic or grab your fishing pole and enjoy all this park has to offer!</span></div>\n
LOCATION:
UID:e.3273.156
SEQUENCE:3
DTSTAMP:20260424T082549Z
URL:https://business.knoxcountychamber.com/events/details/chamber-after-hours-national-tourism-week-156
END:VEVENT

END:VCALENDAR
