BEGIN:VCALENDAR
VERSION:2.0
PRODID:-//ChamberMaster//Event Calendar 2.0//EN
METHOD:PUBLISH
X-PUBLISHED-TTL:P3D
REFRESH-INTERVAL:P3D
CALSCALE:GREGORIAN
BEGIN:VEVENT
DTSTART:20190829T200000Z
DTEND:20190829T220000Z
X-MICROSOFT-CDO-ALLDAYEVENT:FALSE
SUMMARY:Chamber After Hours - United Way Campaign Kickoff
DESCRIPTION:The United Way of Knox County will conduct its campaign kickoff as a Knox County Chamber after hours event to be held Thursday August 29th 4:00 p.m. to 6:00 p.m. at the Vincennes Riverwalk (weather permitting) *\n\nThe Event will include:\n\n  Activities for Children at tables from our 25 partner agencies\n\n  Results of our Elementary Coin collecting Campaign\n\n  Representatives of our Pace Setter Campaigns\n\n  High School Team Mascots\n\n  Food Trucks\n\n  Door Prizes\n\n  Campaign Kickoff Goal and Pep talk from Campaign Chair\n\n  Balloons\n\n  Live Music\n\n*In case of inclement weather\, the kickoff will be moved to the Riverfront Pavilion
X-ALT-DESC;FMTTYPE=text/html:The United Way of Knox County will conduct its campaign kickoff as a Knox County Chamber after hours event to be held Thursday August 29th 4:00 p.m. to 6:00 p.m. at the Vincennes Riverwalk (weather permitting) *<br />\nThe Event will include:<br />\n&bull\; Activities for Children at tables from our 25 partner agencies<br />\n&bull\; Results of our Elementary Coin collecting Campaign<br />\n&bull\; Representatives of our Pace Setter Campaigns<br />\n&bull\; High School Team Mascots<br />\n&bull\; Food Trucks<br />\n&bull\; Door Prizes<br />\n&bull\; Campaign Kickoff Goal and Pep talk from Campaign Chair<br />\n&bull\; Balloons<br />\n&bull\; Live Music<br />\n*In case of inclement weather\, the kickoff will be moved to the Riverfront Pavilion
LOCATION:
UID:e.3273.60
SEQUENCE:3
DTSTAMP:20260425T160444Z
URL:https://business.knoxcountychamber.com/events/details/chamber-after-hours-united-way-campaign-kickoff-60
END:VEVENT

END:VCALENDAR
