BEGIN:VCALENDAR
VERSION:2.0
PRODID:-//ChamberMaster//Event Calendar 2.0//EN
METHOD:PUBLISH
X-PUBLISHED-TTL:P3D
REFRESH-INTERVAL:P3D
CALSCALE:GREGORIAN
BEGIN:VEVENT
DTSTART:20191029T114500Z
DTEND:20191029T130000Z
X-MICROSOFT-CDO-ALLDAYEVENT:FALSE
SUMMARY:Chamber Connection
DESCRIPTION:Join us for a speed networking event at Graze 1885! This event is sponsored by German American Bank.
X-ALT-DESC;FMTTYPE=text/html:Join us for a speed networking event at Graze 1885! This event is sponsored by German American Bank.
LOCATION:
UID:e.3273.67
SEQUENCE:3
DTSTAMP:20260425T131904Z
URL:https://business.knoxcountychamber.com/events/details/chamber-connection-67
END:VEVENT

END:VCALENDAR
