BEGIN:VCALENDAR
VERSION:2.0
PRODID:-//ChamberMaster//Event Calendar 2.0//EN
METHOD:PUBLISH
X-PUBLISHED-TTL:P3D
REFRESH-INTERVAL:P3D
CALSCALE:GREGORIAN
BEGIN:VEVENT
DTSTART:20190212T125000Z
DTEND:20190212T140000Z
X-MICROSOFT-CDO-ALLDAYEVENT:FALSE
SUMMARY:Chamber Connections
DESCRIPTION:Enjoy a coffee and a light breakfast with Chamber Members before your workday begins! Chamber Connections is a quarterly speed-networking event that is exclusive to Chamber Members. This is a great way to connect with other members and build a larger network of referrals. Registration is required for this event! Doors open at 7:30am with the program beginning at 7:50am and concluding at 9:00am. Thank you to our sponsor\, Uebelhor & Sons Buick GMC Cadillac\, for sponsoring this event!
X-ALT-DESC;FMTTYPE=text/html:Enjoy a coffee and a light breakfast with Chamber Members before your workday begins! Chamber Connections is a quarterly speed-networking event that is exclusive to Chamber Members. This is a great way to connect with other members and build a larger network of referrals. Registration is required for this event! Doors open at 7:30am with the program beginning at 7:50am and concluding at 9:00am. Thank you to our sponsor\, Uebelhor &amp\; Sons Buick GMC Cadillac\, for sponsoring this event!
LOCATION:Uebelhor & Sons Buick GMC Cadillac Showroom 626 Kimmell Road\, Vincennes\, IN 47591
UID:e.3273.35
SEQUENCE:3
DTSTAMP:20260426T022409Z
URL:https://business.knoxcountychamber.com/events/details/chamber-connections-35
END:VEVENT

END:VCALENDAR
