BEGIN:VCALENDAR
VERSION:2.0
PRODID:-//ChamberMaster//Event Calendar 2.0//EN
METHOD:PUBLISH
X-PUBLISHED-TTL:P3D
REFRESH-INTERVAL:P3D
CALSCALE:GREGORIAN
BEGIN:VEVENT
DTSTART:20190516T210000Z
DTEND:20190516T223000Z
X-MICROSOFT-CDO-ALLDAYEVENT:FALSE
SUMMARY:Chamber Connections
DESCRIPTION:Please join us for the Chamber Connections event on Thursday\, May 16 at the Vincennes Brewing Company. Mingling begins at 5pm and the program begins at 5:15pm. It will feature a speed networking format that enables you to make connections\, quick! Appetizers and cash bar available!
X-ALT-DESC;FMTTYPE=text/html:<br />\n<span style="display: inline !important\; float: none\; background-color: transparent\; color: rgb(51\, 51\, 51)\; font-family: Arial\; font-size: 16px\; font-style: normal\; font-variant: normal\; font-weight: 400\; letter-spacing: normal\; orphans: 2\; text-align: center\; text-decoration: none\; text-indent: 0px\; text-transform: none\; -webkit-text-stroke-width: 0px\; white-space: normal\; word-spacing: 0px\;">Please join us for the Chamber Connections event on Thursday\, May 16 at the Vincennes Brewing Company. Mingling begins at 5pm and the program begins at 5:15pm. It will feature a speed networking format that enables you to make connections\, quick! Appetizers and cash bar available!</span>
LOCATION:Vincennes Brewing Company
UID:e.3273.39
SEQUENCE:3
DTSTAMP:20260425T215545Z
URL:https://business.knoxcountychamber.com/events/details/chamber-connections-39
END:VEVENT

END:VCALENDAR
