BEGIN:VCALENDAR
VERSION:2.0
PRODID:-//ChamberMaster//Event Calendar 2.0//EN
METHOD:PUBLISH
X-PUBLISHED-TTL:P3D
REFRESH-INTERVAL:P3D
CALSCALE:GREGORIAN
BEGIN:VEVENT
DTSTART:20210722T160000Z
DTEND:20210722T170000Z
X-MICROSOFT-CDO-ALLDAYEVENT:FALSE
SUMMARY:Chamber Insurance Info Luncheon
DESCRIPTION:At the Knox County Chamber\, our #1 priority is to make sure our business community is strong and competitive in today's world.  We know that workforce and the rising cost of health care is a problem for both large and small businesses in our community. \n\n \n\nAfter listening to our members\, we have partnered with Benefits 7 to provide a benefits program to help address these needs. \n\n \n\nPlease join us on Thursday\, July 22 at Noon at the Vincennes Fortnightly Club to learn more about this benefit exclusively for Chamber members.  Lunch will be provided.   \n\n \n\nSee this flyer for more details. \n\n \n\nRegistration is required for this luncheon.  Both Chamber Members and Non-Members are invited to attend
X-ALT-DESC;FMTTYPE=text/html:At the Knox County Chamber\, our #1 priority is to make sure our business community is strong and competitive in today&rsquo\;s world.&nbsp\; We know that workforce and the rising cost of health care is a problem for both large and small businesses in our community.&nbsp\;<br />\n&nbsp\;<br />\nAfter listening to our members\, we have partnered with Benefits 7 to provide a benefits program to help address these needs.&nbsp\;<br />\n&nbsp\;<br />\nPlease join us on Thursday\, July 22 at Noon at the Vincennes Fortnightly Club to learn more about this benefit exclusively for Chamber members.&nbsp\; Lunch will be provided.&nbsp\;&nbsp\;&nbsp\;<br />\n&nbsp\;<br />\n<a href="https://chambermaster.blob.core.windows.net/userfiles/UserFiles/chambers/3273/File/InsuranceFlyer4.pdf">See this flyer for more details.&nbsp\;</a><br />\n&nbsp\;<br />\n<span style="font-family:calibri\,sans-serif\;"><span style="font-size:11.0pt\;">Registration is required for this luncheon.&nbsp\; Both Chamber Members and Non-Members are invited to attend</span></span>
LOCATION:
UID:e.3273.169
SEQUENCE:3
DTSTAMP:20260422T182355Z
URL:https://business.knoxcountychamber.com/events/details/chamber-insurance-info-luncheon-169
END:VEVENT

END:VCALENDAR
