BEGIN:VCALENDAR
VERSION:2.0
PRODID:-//ChamberMaster//Event Calendar 2.0//EN
METHOD:PUBLISH
X-PUBLISHED-TTL:P3D
REFRESH-INTERVAL:P3D
CALSCALE:GREGORIAN
BEGIN:VEVENT
DTSTART:20210324T160000Z
DTEND:20210324T170000Z
X-MICROSOFT-CDO-ALLDAYEVENT:FALSE
SUMMARY:Chamber Luncheon
DESCRIPTION:Chamber Luncheon's are held monthly\, offering Chamber members lunch\, networking\, and an informational session. The program begins at 12 p.m. and ends within the hour.\n\n\n\nMarch's Chamber Luncheon will be held at Blossom Hill on Wednesday\, March 24 at 12 pm. Our program will begin promptly at 12:05 p.m.\, so please plan to arrive a few minutes early to get checked in. \n\n\n\n\n\nRegistration is required to attend this event. Seating is limited. \n\n\n\nLuncheons are $5 to enter. You can pay with cash\, check or Venmo at the door.
X-ALT-DESC;FMTTYPE=text/html:<span class="JsGRdQ">Chamber Luncheon&#39\;s are held monthly\, offering Chamber members lunch\, networking\, and an informational session. The program begins at 12 p.m. and ends within the hour.<br />\n<br />\nMarch&#39\;s Chamber Luncheon will be held at Blossom Hill on Wednesday\, March 24 at 12 pm.&nbsp\;</span>Our program will begin promptly at 12:05 p.m.\, so please plan to arrive a few minutes early to get checked in.&nbsp\;<br />\n<br />\n<br />\nRegistration is required to attend this event. Seating is limited.&nbsp\;<br />\n<br />\nLuncheons are $5 to enter. You can pay with cash\, check or Venmo at the door.&nbsp\;
LOCATION:
UID:e.3273.136
SEQUENCE:3
DTSTAMP:20260424T124534Z
URL:https://business.knoxcountychamber.com/events/details/chamber-luncheon-136
END:VEVENT

END:VCALENDAR
