BEGIN:VCALENDAR
VERSION:2.0
PRODID:-//ChamberMaster//Event Calendar 2.0//EN
METHOD:PUBLISH
X-PUBLISHED-TTL:P3D
REFRESH-INTERVAL:P3D
CALSCALE:GREGORIAN
BEGIN:VEVENT
DTSTART:20210428T160000Z
DTEND:20210428T170000Z
X-MICROSOFT-CDO-ALLDAYEVENT:FALSE
SUMMARY:Chamber Luncheon
DESCRIPTION:Chamber Luncheon's are held monthly\, offering Chamber members lunch\, networking\, and an informational session. The program begins at 12 p.m. and ends within the hour.\n\n\n\nApril's Chamber Luncheon will be held at Blossom Hill on Wednesday\, April 28 at 12 pm. Our program will begin promptly at 12:05 p.m.\, so please plan to arrive a few minutes early to get checked in. \n\n\n\nOur April Luncheon is sponsored by Burkhart Insurance!\n\n\n\nRegistration is required to attend this event. Seating is limited.
X-ALT-DESC;FMTTYPE=text/html:<span style="color: rgb(26\, 57\, 88)\;">Chamber Luncheon&#39\;s are held monthly\, offering Chamber members lunch\, networking\, and an informational session. The program begins at 12 p.m. and ends within the hour.</span><br style="color: rgb(26\, 57\, 88)\;" />\n<br />\n<span class="JsGRdQ">April&#39\;s Chamber Luncheon will be held at Blossom Hill on Wednesday\, April 28 at 12 pm.&nbsp\;</span>Our program will begin promptly at 12:05 p.m.\, so please plan to arrive a few minutes early to get checked in.&nbsp\;<br />\n<br />\nOur April Luncheon is sponsored by <a href="https://www.burkhartinsurance.com/">Burkhart Insurance</a>!<br />\n<br />\nRegistration is required to attend this event. Seating is limited.&nbsp\;
LOCATION:
UID:e.3273.137
SEQUENCE:3
DTSTAMP:20260424T095830Z
URL:https://business.knoxcountychamber.com/events/details/chamber-luncheon-137
END:VEVENT

END:VCALENDAR
