BEGIN:VCALENDAR
VERSION:2.0
PRODID:-//ChamberMaster//Event Calendar 2.0//EN
METHOD:PUBLISH
X-PUBLISHED-TTL:P3D
REFRESH-INTERVAL:P3D
CALSCALE:GREGORIAN
BEGIN:VEVENT
DTSTART:20210526T160000Z
DTEND:20210526T170000Z
X-MICROSOFT-CDO-ALLDAYEVENT:FALSE
SUMMARY:Chamber Luncheon
DESCRIPTION:Chamber Luncheon's are held monthly\, offering Chamber members lunch\, networking\, and an informational session. The program begins at 12 p.m. and ends within the hour.\n\n\n\nMay's Chamber Luncheon will be held at the Charles C. Hedde Education Center at Good Samaritan on Wednesday\, May 26 at 12 pm. Our program will begin promptly at 12:05 p.m.\, so please plan to arrive a few minutes early to get checked in. \n\n\n\nOur May Luncheon is sponsored by Good Samaritan!\n\n\n\nRegistration is required to attend this event. Seating is limited.
X-ALT-DESC;FMTTYPE=text/html:Chamber Luncheon&#39\;s are held monthly\, offering Chamber members lunch\, networking\, and an informational session. The program begins at 12 p.m. and ends within the hour.<br style="color: rgb(26\, 57\, 88)\;" />\n<br />\n<span class="JsGRdQ">May&#39\;s Chamber Luncheon will be held at the Charles C. Hedde Education Center at Good Samaritan on Wednesday\, May 26 at 12 pm.&nbsp\;</span>Our program will begin promptly at 12:05 p.m.\, so please plan to arrive a few minutes early to get checked in.&nbsp\;<br />\n<br />\nOur May Luncheon is sponsored by&nbsp\;<a href="https://www.burkhartinsurance.com/">G</a><a href="https://www.gshvin.org/">ood Samaritan</a>!<br />\n<br />\nRegistration is required to attend this event. Seating is limited.&nbsp\;
LOCATION:
UID:e.3273.138
SEQUENCE:3
DTSTAMP:20260424T082151Z
URL:https://business.knoxcountychamber.com/events/details/chamber-luncheon-138
END:VEVENT

END:VCALENDAR
