BEGIN:VCALENDAR
VERSION:2.0
PRODID:-//ChamberMaster//Event Calendar 2.0//EN
METHOD:PUBLISH
X-PUBLISHED-TTL:P3D
REFRESH-INTERVAL:P3D
CALSCALE:GREGORIAN
BEGIN:VEVENT
DTSTART:20210623T160000Z
DTEND:20210623T170000Z
X-MICROSOFT-CDO-ALLDAYEVENT:FALSE
SUMMARY:Chamber Luncheon
DESCRIPTION:Chamber Luncheon's are held monthly\, offering Chamber members lunch\, networking\, and an informational session. The program begins at 12 p.m. and ends within the hour.\n\n\n\nOur June Luncheon will be on Wednesday\, June 23 at Blossom Hill. \n\n\n\nThank you to our June Sponsor\, Pro Rehab!
X-ALT-DESC;FMTTYPE=text/html:<span style="color: rgb(26\, 57\, 88)\;">Chamber Luncheon&#39\;s are held monthly\, offering Chamber members lunch\, networking\, and an informational session. The program begins at 12 p.m. and ends within the hour.</span><br style="color: rgb(26\, 57\, 88)\;" />\n<br style="color: rgb(26\, 57\, 88)\;" />\n<font color="#1a3958">Our June Luncheon will be on Wednesday\, June 23 at Blossom Hill.&nbsp\;</font><br />\n<br />\n<font color="#1a3958">Thank you to our June&nbsp\;<span style="caret-color: rgb(26\, 57\, 88)\;">Sponsor</span>\, Pro Rehab!&nbsp\;</font>
LOCATION:
UID:e.3273.139
SEQUENCE:3
DTSTAMP:20260422T194534Z
URL:https://business.knoxcountychamber.com/events/details/chamber-luncheon-139
END:VEVENT

END:VCALENDAR
