BEGIN:VCALENDAR
VERSION:2.0
PRODID:-//ChamberMaster//Event Calendar 2.0//EN
METHOD:PUBLISH
X-PUBLISHED-TTL:P3D
REFRESH-INTERVAL:P3D
CALSCALE:GREGORIAN
BEGIN:VEVENT
DTSTART:20210728T160000Z
DTEND:20210728T170000Z
X-MICROSOFT-CDO-ALLDAYEVENT:FALSE
SUMMARY:Chamber Luncheon
DESCRIPTION:Chamber Luncheon's are held monthly\, offering Chamber members lunch\, networking\, and an informational session. The program begins at 12 p.m. and ends within the hour.\n\n\n\nOur July Chamber Luncheon will be held on Wednesday\, July 28 at Blossom Hill. \n\n\n\nThank you to our July sponsor\, BridgePointe Health Campus!
X-ALT-DESC;FMTTYPE=text/html:<span style="color: rgb(26\, 57\, 88)\;">Chamber Luncheon&#39\;s are held monthly\, offering Chamber members lunch\, networking\, and an informational session. The program begins at 12 p.m. and ends within the hour.</span><br style="color: rgb(26\, 57\, 88)\;" />\n<br style="color: rgb(26\, 57\, 88)\;" />\n<span style="color: rgb(26\, 57\, 88)\;">Our July Chamber Luncheon will be held on Wednesday\, July 28 at Blossom Hill.&nbsp\;<br />\n<br />\nThank you to our July sponsor\, BridgePointe Health Campus!&nbsp\;</span>
LOCATION:
UID:e.3273.140
SEQUENCE:3
DTSTAMP:20260422T182208Z
URL:https://business.knoxcountychamber.com/events/details/chamber-luncheon-140
END:VEVENT

END:VCALENDAR
