BEGIN:VCALENDAR
VERSION:2.0
PRODID:-//ChamberMaster//Event Calendar 2.0//EN
METHOD:PUBLISH
X-PUBLISHED-TTL:P3D
REFRESH-INTERVAL:P3D
CALSCALE:GREGORIAN
BEGIN:VEVENT
DTSTART:20211027T160000Z
DTEND:20211027T170000Z
X-MICROSOFT-CDO-ALLDAYEVENT:FALSE
SUMMARY:Chamber Luncheon
DESCRIPTION:Chamber Luncheon's are held monthly\, offering Chamber members lunch\, networking\, and an informational session. The program begins at 12 p.m. and ends within the hour.\n\n\n\nOur September Luncheon will be held on Wednesday\, October 27 at Blossom Hill. Our sponsor for this month is Valley Party Supply!
X-ALT-DESC;FMTTYPE=text/html:<span style="color: rgb(26\, 57\, 88)\;">Chamber Luncheon's are held monthly\, offering Chamber members lunch\, networking\, and an informational session. The program begins at 12 p.m. and ends within the hour.</span><br style="color: rgb(26\, 57\, 88)\;">\n<br style="color: rgb(26\, 57\, 88)\;">\n<span style="color: rgb(26\, 57\, 88)\;">Our September Luncheon will be held on Wednesday\, October 27 at Blossom Hill. Our sponsor for this month is Valley Party Supply!&nbsp\;</span>
LOCATION:
UID:e.3273.143
SEQUENCE:3
DTSTAMP:20260422T133821Z
URL:https://business.knoxcountychamber.com/events/details/chamber-luncheon-143
END:VEVENT

END:VCALENDAR
