BEGIN:VCALENDAR
VERSION:2.0
PRODID:-//ChamberMaster//Event Calendar 2.0//EN
METHOD:PUBLISH
X-PUBLISHED-TTL:P3D
REFRESH-INTERVAL:P3D
CALSCALE:GREGORIAN
BEGIN:VEVENT
DTSTART:20190123T170000Z
DTEND:20190123T180000Z
X-MICROSOFT-CDO-ALLDAYEVENT:FALSE
SUMMARY:Chamber Luncheon
DESCRIPTION:Join us for our monthly Chamber Luncheon. It will have featured speakers\, networking opportunities\, and free lunch.\n\nThank you to this month's sponsor: Illiana Watermelon Association
X-ALT-DESC;FMTTYPE=text/html:Join us for our monthly Chamber Luncheon. It will have featured speakers\, networking opportunities\, and free lunch.<br />\nThank you to this month&#39\;s sponsor: Illiana Watermelon Association
LOCATION:1972 KCARC 711 Old Wheatland Road\, Vincennes\, IN 47591
UID:e.3273.24
SEQUENCE:3
DTSTAMP:20260426T023240Z
URL:https://business.knoxcountychamber.com/events/details/chamber-luncheon-24
END:VEVENT

END:VCALENDAR
