BEGIN:VCALENDAR
VERSION:2.0
PRODID:-//ChamberMaster//Event Calendar 2.0//EN
METHOD:PUBLISH
X-PUBLISHED-TTL:P3D
REFRESH-INTERVAL:P3D
CALSCALE:GREGORIAN
BEGIN:VEVENT
DTSTART:20190424T160000Z
DTEND:20190424T170000Z
X-MICROSOFT-CDO-ALLDAYEVENT:FALSE
SUMMARY:Chamber Luncheon
DESCRIPTION:Join us for our monthly Chamber Luncheon. It will have featured speakers\, networking opportunities\, and free lunch.
X-ALT-DESC;FMTTYPE=text/html:Join us for our monthly Chamber Luncheon. It will have featured speakers\, networking opportunities\, and free lunch.<br />\n&nbsp\;
LOCATION:1972 KCARC 711 Old Wheatland Road\, Vincennes\, IN 47591
UID:e.3273.27
SEQUENCE:3
DTSTAMP:20260425T215342Z
URL:https://business.knoxcountychamber.com/events/details/chamber-luncheon-27
END:VEVENT

END:VCALENDAR
