BEGIN:VCALENDAR
VERSION:2.0
PRODID:-//ChamberMaster//Event Calendar 2.0//EN
METHOD:PUBLISH
X-PUBLISHED-TTL:P3D
REFRESH-INTERVAL:P3D
CALSCALE:GREGORIAN
BEGIN:VEVENT
DTSTART:20191023T160000Z
DTEND:20191023T170000Z
X-MICROSOFT-CDO-ALLDAYEVENT:FALSE
SUMMARY:Chamber Luncheon
DESCRIPTION:Enjoy a free lunch while listening to speakers & learning about local businesses/organizations during our monthly Chamber Luncheon.
X-ALT-DESC;FMTTYPE=text/html:<div align="center" style="font-family: Arial\; font-size: 14px\; text-align: center\;"><span style="color: rgb(2\, 7\, 33)\;">Enjoy a&nbsp\;</span><span style="color: rgb(2\, 7\, 33)\; font-weight: bold\;">free&nbsp\;</span><span style="color: rgb(2\, 7\, 33)\;">lunch while listening to speakers &amp\; learning about local businesses/organizations during our monthly Chamber Luncheon.</span></div>\n\n<div>&nbsp\;</div>\n
LOCATION:VU Green Activities Center Vincennes University Campus
UID:e.3273.33
SEQUENCE:3
DTSTAMP:20260425T132558Z
URL:https://business.knoxcountychamber.com/events/details/chamber-luncheon-33
END:VEVENT

END:VCALENDAR
