BEGIN:VCALENDAR
VERSION:2.0
PRODID:-//ChamberMaster//Event Calendar 2.0//EN
METHOD:PUBLISH
X-PUBLISHED-TTL:P3D
REFRESH-INTERVAL:P3D
CALSCALE:GREGORIAN
BEGIN:VEVENT
DTSTART:20200122T170000Z
DTEND:20200122T180000Z
X-MICROSOFT-CDO-ALLDAYEVENT:FALSE
SUMMARY:Chamber Luncheon
DESCRIPTION:Join us for the January Chamber Luncheon\, sponsored by the Illiana Watermelon Association! \n\n\n\nDate: Wednesday\, January 22\, 2020\n\nTime: 12 PM\n\nLocation: 1972 KCARC
X-ALT-DESC;FMTTYPE=text/html:Join us for the January Chamber Luncheon\, sponsored by the Illiana Watermelon Association!&nbsp\;<br />\n<br />\nDate: Wednesday\, January 22\, 2020<br />\nTime: 12 PM<br />\nLocation: 1972 KCARC
LOCATION:
UID:e.3273.78
SEQUENCE:3
DTSTAMP:20260425T101813Z
URL:https://business.knoxcountychamber.com/events/details/chamber-luncheon-78
END:VEVENT

END:VCALENDAR
