BEGIN:VCALENDAR
VERSION:2.0
PRODID:-//ChamberMaster//Event Calendar 2.0//EN
METHOD:PUBLISH
X-PUBLISHED-TTL:P3D
REFRESH-INTERVAL:P3D
CALSCALE:GREGORIAN
BEGIN:VEVENT
DTSTART:20210127T170000Z
DTEND:20210127T180000Z
X-MICROSOFT-CDO-ALLDAYEVENT:FALSE
SUMMARY:Chamber Luncheon - Virtual
DESCRIPTION:Chamber Luncheon's are held monthly\, offering Chamber members lunch\, networking\, and an informational session. The program begins at 12 p.m. and ends within the hour. January's Chamber Luncheon will be virtual.\n\n\n\nFor our January Luncheon\, our President\, Jamie Neal\, will give an update on what the Chamber has been up to over the last year\, and what's to come in 2021! \n\n\n\nA Zoom link will  be sent to each registrant upon registration.
X-ALT-DESC;FMTTYPE=text/html:<span style="color: rgb(26\, 57\, 88)\; font-family: sans-serif\, Arial\, Verdana\, &quot\;Trebuchet MS&quot\;\; font-size: 13px\; background-color: rgb(255\, 255\, 255)\;">Chamber Luncheon&#39\;s are held monthly\, offering Chamber members lunch\, networking\, and an informational session. The program begins at 12 p.m. and ends within the hour. January&#39\;s Chamber Luncheon will be virtual.</span><br style="color: rgb(26\, 57\, 88)\; font-family: sans-serif\, Arial\, Verdana\, &quot\;Trebuchet MS&quot\;\; font-size: 13px\; background-color: rgb(255\, 255\, 255)\;" />\n<br style="color: rgb(26\, 57\, 88)\; font-family: sans-serif\, Arial\, Verdana\, &quot\;Trebuchet MS&quot\;\; font-size: 13px\; background-color: rgb(255\, 255\, 255)\;" />\n<span style="color: rgb(26\, 57\, 88)\; font-family: sans-serif\, Arial\, Verdana\, &quot\;Trebuchet MS&quot\;\; font-size: 13px\; background-color: rgb(255\, 255\, 255)\;">For our January Luncheon\, our President\, Jamie Neal\, will give an update on what the Chamber has been up to over the last year\, and what&#39\;s to come in 2021!&nbsp\;<br />\n<br />\nA Zoom link will&nbsp\; be sent to each registrant upon registration.</span>
LOCATION:
UID:e.3273.146
SEQUENCE:3
DTSTAMP:20260424T143747Z
URL:https://business.knoxcountychamber.com/events/details/chamber-luncheon-virtual-146
END:VEVENT

END:VCALENDAR
