BEGIN:VCALENDAR
VERSION:2.0
PRODID:-//ChamberMaster//Event Calendar 2.0//EN
METHOD:PUBLISH
X-PUBLISHED-TTL:P3D
REFRESH-INTERVAL:P3D
CALSCALE:GREGORIAN
BEGIN:VEVENT
DTSTART:20210224T170000Z
DTEND:20210224T180000Z
X-MICROSOFT-CDO-ALLDAYEVENT:FALSE
SUMMARY:Chamber Luncheon - Virtual
DESCRIPTION:Chamber Luncheon's are held monthly\, offering Chamber members lunch\, networking\, and an informational session. The program begins at 12 p.m. and ends within the hour. February's Chamber Luncheon will be virtual.\n\n\n\nA Zoom link will  be sent to each registrant upon registration.
X-ALT-DESC;FMTTYPE=text/html:<span style="color: rgb(26\, 57\, 88)\;">Chamber Luncheon&#39\;s are held monthly\, offering Chamber members lunch\, networking\, and an informational session. The program begins at 12 p.m. and ends within the hour. February&#39\;s Chamber Luncheon will be virtual.</span><br style="color: rgb(26\, 57\, 88)\;" />\n<br />\n<span style="color: rgb(26\, 57\, 88)\;">A Zoom link will&nbsp\; be sent to each registrant upon registration.</span>
LOCATION:
UID:e.3273.147
SEQUENCE:3
DTSTAMP:20260424T141134Z
URL:https://business.knoxcountychamber.com/events/details/chamber-luncheon-virtual-147
END:VEVENT

END:VCALENDAR
