BEGIN:VCALENDAR
VERSION:2.0
PRODID:-//ChamberMaster//Event Calendar 2.0//EN
METHOD:PUBLISH
X-PUBLISHED-TTL:P3D
REFRESH-INTERVAL:P3D
CALSCALE:GREGORIAN
BEGIN:VEVENT
DTSTART:20210511T113000Z
DTEND:20210511T123000Z
X-MICROSOFT-CDO-ALLDAYEVENT:FALSE
SUMMARY:Chamber Net
DESCRIPTION:Chamber Net is a quarterly networking event that is exclusive to Chamber members. This is a great way to connect with other members and build a larger network of referrals in a relaxed\, laid back environment. Platform will vary each month between networking and roundtable discussions.\n\n\n\nOur May Chamber Net will be held at The Pantheon\, located at 428 Main Street\, Vincennes. Our program will begin at 7:30 a.m.\n\n\n\nRegistration is required for this event. \n\n\n\nPlease bring business cards with you to this event.
X-ALT-DESC;FMTTYPE=text/html:<span style="color: rgb(26\, 57\, 88)\;">Chamber Net is a quarterly networking event that is exclusive to Chamber members. This is a great way to connect with other members and build a larger network of referrals in a relaxed\, laid back environment. Platform will vary each month between networking and roundtable discussions.<br />\n<br />\nOur May Chamber Net will be held at The Pantheon\, located at 428 Main Street\, Vincennes. Our program will begin at 7:30 a.m.<br />\n<br />\nRegistration is required for this event.&nbsp\;<br />\n<br />\nPlease bring business cards with you to this event.&nbsp\;</span>
LOCATION:
UID:e.3273.135
SEQUENCE:3
DTSTAMP:20260424T082209Z
URL:https://business.knoxcountychamber.com/events/details/chamber-net-05-20-2021-135
END:VEVENT

END:VCALENDAR
