BEGIN:VCALENDAR
VERSION:2.0
PRODID:-//ChamberMaster//Event Calendar 2.0//EN
METHOD:PUBLISH
X-PUBLISHED-TTL:P3D
REFRESH-INTERVAL:P3D
CALSCALE:GREGORIAN
BEGIN:VEVENT
DTSTART:20210218T131500Z
DTEND:20210218T143000Z
X-MICROSOFT-CDO-ALLDAYEVENT:FALSE
SUMMARY:Chamber Net
DESCRIPTION:Chamber Net is a quarterly networking event that is exclusive to Chamber members. This is a great way to connect with other members and build a larger network of referrals in a relaxed\, laid back environment. Platform will vary each month between networking and roundtable discussions.\n\n\n\nThis event will be held virtually via Zoom. A meeting link will be sent out to all registrants prior to the event.
X-ALT-DESC;FMTTYPE=text/html:<span class="JsGRdQ" style="color: rgb(26\, 57\, 88)\;">Chamber Net is a quarterly networking event that is exclusive to Chamber members. This is a great way to connect with other members and build a larger network of referrals in a relaxed\, laid back environment. Platform will vary each month between networking and roundtable discussions.<br />\n<br />\nThis event will be held virtually via Zoom. A meeting link will be sent out to all registrants prior to the event.&nbsp\;</span>
LOCATION:
UID:e.3273.130
SEQUENCE:3
DTSTAMP:20260424T124453Z
URL:https://business.knoxcountychamber.com/events/details/chamber-net-130
END:VEVENT

END:VCALENDAR
