BEGIN:VCALENDAR
VERSION:2.0
PRODID:-//ChamberMaster//Event Calendar 2.0//EN
METHOD:PUBLISH
X-PUBLISHED-TTL:P3D
REFRESH-INTERVAL:P3D
CALSCALE:GREGORIAN
BEGIN:VEVENT
DTSTART:20211007T133000Z
DTEND:20211007T200000Z
X-MICROSOFT-CDO-ALLDAYEVENT:FALSE
SUMMARY:Chamber Trap Shoot
DESCRIPTION:Please join us for our Annual Chamber Trap Shoot on Thursday\, October 7th. Registration begins at 9:30 a.m. with competition starting at 10 a.m.\n\nIt will be held at the Vincennes Gun Club. Please register at your earliest convenience to ensure you get a spot!\n\n \n\nSponsorship and Registration is due on Friday\, October 1st.\n\nDon't miss out on this great event!\n\n \n\nDate: Thursday\, October 7\, 2021\n\nTime: Registration at 9:30 a.m.\, Competition at 10 a.m.\n\nLocation: Vincennes Gun Club - Click Here\n\n\n\nDownload the registration form here!
X-ALT-DESC;FMTTYPE=text/html:<div align="center" style="font-family: Arial\; font-size: 14px\; text-align: center\;"><span style="font-size: 16px\; color: rgb(0\, 0\, 0)\; font-family: Arial\, Verdana\, Helvetica\, sans-serif\;">Please join us for our Annual Chamber Trap Shoot on Thursday\, October 7th. Registration begins at 9:30 a.m. with competition starting at 10 a.m.</span></div>\n\n<div align="center" style="font-family: Arial\; font-size: 14px\; text-align: center\;"><span style="font-size: 16px\; color: rgb(0\, 0\, 0)\; font-family: Arial\, Verdana\, Helvetica\, sans-serif\;">It will be held at the Vincennes Gun Club. Please register at your earliest convenience to ensure you get a spot!</span></div>\n\n<div align="center" style="font-family: Arial\; font-size: 14px\; text-align: center\;">&nbsp\;</div>\n\n<div align="center" style="font-family: Arial\; font-size: 14px\; text-align: center\;"><span style="font-size: 16px\; color: rgb(0\, 0\, 0)\; font-family: Arial\, Verdana\, Helvetica\, sans-serif\; font-weight: bold\;">Sponsorship and Registration is due on Friday\, October 1st.</span></div>\n\n<div align="center" style="font-family: Arial\; font-size: 14px\; text-align: center\;"><span style="font-size: 16px\; color: rgb(0\, 0\, 0)\; font-family: Arial\, Verdana\, Helvetica\, sans-serif\;">Don&#39\;t miss out on this great event!</span></div>\n\n<div style="font-family: Arial\; font-size: 14px\;">&nbsp\;</div>\n\n<div style="font-family: Arial\; font-size: 14px\;"><span style="font-size: 16px\; color: rgb(0\, 0\, 0)\; font-family: Arial\, Verdana\, Helvetica\, sans-serif\; font-weight: bold\;">Date:&nbsp\;</span><span style="font-size: 16px\; color: rgb(0\, 0\, 0)\; font-family: Arial\, Verdana\, Helvetica\, sans-serif\;">Thursday\, October 7\, 2021</span></div>\n\n<div style="font-family: Arial\; font-size: 14px\;"><span style="font-size: 16px\; color: rgb(0\, 0\, 0)\; font-family: Arial\, Verdana\, Helvetica\, sans-serif\; font-weight: bold\;">Time:&nbsp\;</span><span style="font-size: 16px\; color: rgb(0\, 0\, 0)\; font-family: Arial\, Verdana\, Helvetica\, sans-serif\;">Registration at 9:30 a.m.\, Competition at 10 a.m.</span></div>\n\n<div style="font-family: Arial\; font-size: 14px\;"><span style="font-size: 16px\; color: rgb(0\, 0\, 0)\; font-family: Arial\, Verdana\, Helvetica\, sans-serif\; font-weight: bold\;">Location:&nbsp\;</span><span style="font-size: 16px\; color: rgb(0\, 0\, 0)\; font-family: Arial\, Verdana\, Helvetica\, sans-serif\;">Vincennes Gun Club -&nbsp\;</span><a href="https://www.google.com/maps/place/Vincennes+Gun+Club/@38.6443148\,-87.5690402\,17z/data=!3m1!4b1!4m5!3m4!1s0x887200399d7533bd:0x7a3dcada37f27d8!8m2!3d38.6443148!4d-87.5668515" rel="noopener noreferrer" style="text-decoration-line: none\; font-size: 16px\; color: rgb(0\, 0\, 0)\; font-family: Arial\, Verdana\, Helvetica\, sans-serif\; font-weight: bold\;" target="_blank">Click Here</a><br />\n<br />\n<a href="https://chambermaster.blob.core.windows.net/userfiles/UserFiles/chambers/3273/File/2021TrapShootRegistrationForm.pdf">Download the registration form here!</a></div>\n
LOCATION:
UID:e.3273.184
SEQUENCE:3
DTSTAMP:20260422T133847Z
URL:https://business.knoxcountychamber.com/events/details/chamber-trap-shoot-184
END:VEVENT

END:VCALENDAR
