BEGIN:VCALENDAR
VERSION:2.0
PRODID:-//ChamberMaster//Event Calendar 2.0//EN
METHOD:PUBLISH
X-PUBLISHED-TTL:P3D
REFRESH-INTERVAL:P3D
CALSCALE:GREGORIAN
BEGIN:VEVENT
DTSTART:20260516T140000Z
DTEND:20260516T200000Z
X-MICROSOFT-CDO-ALLDAYEVENT:FALSE
SUMMARY:Cruise Knox County: Market Day
DESCRIPTION:Self-guided\, family-friendly tour of Knox County roadside stands\, farm stands\, home-based vendors\, crafters\, and artists. https://www.eventbrite.com/e/cruise-knox-county-tickets-1982791521817?aff=oddtdtcreator
X-ALT-DESC;FMTTYPE=text/html:Self-guided\, family-friendly tour of Knox County roadside stands\, farm stands\, home-based vendors\, crafters\, and artists.&nbsp\;https://www.eventbrite.com/e/cruise-knox-county-tickets-1982791521817?aff=oddtdtcreator
LOCATION:County wide
UID:e.3273.6731
SEQUENCE:3
DTSTAMP:20260426T000653Z
URL:https://business.knoxcountychamber.com/events/details/cruise-knox-county-market-day-6731
END:VEVENT

END:VCALENDAR
