BEGIN:VCALENDAR
VERSION:2.0
PRODID:-//ChamberMaster//Event Calendar 2.0//EN
METHOD:PUBLISH
X-PUBLISHED-TTL:P3D
REFRESH-INTERVAL:P3D
CALSCALE:GREGORIAN
BEGIN:VEVENT
DTSTART:20210520T150000Z
DTEND:20210520T170000Z
X-MICROSOFT-CDO-ALLDAYEVENT:FALSE
SUMMARY:Drive-Thru Job Fair
DESCRIPTION:The Knox County Chamber of Commerce and Grow Southwest Indiana Workforce will be conducting a Drive-Thru Job Fair on Thursday\, May 20th from  11am-1pm at the Gregg Park Shelter House!\n						\n						\n					\n				\n			\n			\n			\n		\n	\n\n\n\n	\n		\n			\n			\n			\n				\n					\n						\n						If your business is interested in participating\, please contact the chamber at (812) 882-6440.
X-ALT-DESC;FMTTYPE=text/html:<table border="0" cellpadding="0" cellspacing="0" class="galileo-ap-layout-editor" style="border-collapse: collapse\; table-layout: fixed\; color: rgb(0\, 0\, 0)\; font-family: &quot\;Times New Roman&quot\;\; font-size: medium\; min-width: 100%\;" width="100%">\n	<tbody>\n		<tr>\n			<td align="" class="editor-col OneColumnMobile" valign="top" width="100%">\n			<div class="gl-contains-text">\n			<table border="0" cellpadding="0" cellspacing="0" style="border-collapse: collapse\; table-layout: fixed\; min-width: 100%\;" width="100%">\n				<tbody>\n					<tr>\n						<td align="left" class="editor-text content-text" style="-webkit-font-smoothing: antialiased\; font-family: Verdana\, Geneva\, sans-serif\; font-size: 16px\; color: rgb(46\, 47\, 47)\; display: block\; overflow-wrap: break-word\; line-height: 1.2\; padding: 10px 40px\;" valign="top">\n						<div class="text-container galileo-ap-content-editor">\n						<div align="center" style="text-align: center\;"><span style="font-size: 20px\; font-style: italic\; font-weight: bold\; font-family: Arial\, Verdana\, Helvetica\, sans-serif\;">The Knox County Chamber of Commerce and Grow Southwest Indiana Workforce will be conducting a Drive-Thru Job Fair on Thursday\, May 20th from &#65279\;11am-1pm at the Gregg Park Shelter House!</span></div>\n						</div>\n						</td>\n					</tr>\n				</tbody>\n			</table>\n			</div>\n			</td>\n		</tr>\n	</tbody>\n</table>\n\n<table border="0" cellpadding="0" cellspacing="0" class="galileo-ap-layout-editor" style="border-collapse: collapse\; table-layout: fixed\; color: rgb(0\, 0\, 0)\; font-family: &quot\;Times New Roman&quot\;\; font-size: medium\; min-width: 100%\;" width="100%">\n	<tbody>\n		<tr>\n			<td align="" class="editor-col OneColumnMobile" valign="top" width="100%">\n			<div class="gl-contains-text">\n			<table border="0" cellpadding="0" cellspacing="0" style="border-collapse: collapse\; table-layout: fixed\; min-width: 100%\;" width="100%">\n				<tbody>\n					<tr>\n						<td align="left" class="editor-text content-text" style="-webkit-font-smoothing: antialiased\; font-family: Verdana\, Geneva\, sans-serif\; font-size: 16px\; color: rgb(46\, 47\, 47)\; display: block\; overflow-wrap: break-word\; line-height: 1.2\; padding: 10px 40px\;" valign="top">\n						<div><span style="font-family: Arial\, Verdana\, Helvetica\, sans-serif\;">If your business is interested in participating\, please contact the chamber at (812) 882-6440.</span></div>\n						</td>\n					</tr>\n				</tbody>\n			</table>\n			</div>\n			</td>\n		</tr>\n	</tbody>\n</table>\n
LOCATION:
UID:e.3273.155
SEQUENCE:3
DTSTAMP:20260424T100045Z
URL:https://business.knoxcountychamber.com/events/details/drive-thru-job-fair-155
END:VEVENT

END:VCALENDAR
