BEGIN:VCALENDAR
VERSION:2.0
PRODID:-//ChamberMaster//Event Calendar 2.0//EN
METHOD:PUBLISH
X-PUBLISHED-TTL:P3D
REFRESH-INTERVAL:P3D
CALSCALE:GREGORIAN
BEGIN:VEVENT
DTSTART:20241109T130000Z
DTEND:20241109T190000Z
X-MICROSOFT-CDO-ALLDAYEVENT:FALSE
SUMMARY:Eyeworks Frame Show
DESCRIPTION:Eyeworks yearly frame show! Thousands of frames with 25% off complete pair.
X-ALT-DESC;FMTTYPE=text/html:Eyeworks yearly frame show! Thousands of frames with 25% off complete pair.
LOCATION:223 main st Vincennes
UID:e.3273.5691
SEQUENCE:3
DTSTAMP:20260421T130813Z
URL:https://business.knoxcountychamber.com/events/details/eyeworks-frame-show-5691
END:VEVENT

END:VCALENDAR
