BEGIN:VCALENDAR
VERSION:2.0
PRODID:-//ChamberMaster//Event Calendar 2.0//EN
METHOD:PUBLISH
X-PUBLISHED-TTL:P3D
REFRESH-INTERVAL:P3D
CALSCALE:GREGORIAN
BEGIN:VEVENT
DTSTART:20240921T200000Z
DTEND:20240922T030000Z
X-MICROSOFT-CDO-ALLDAYEVENT:FALSE
SUMMARY:Festival Latino
DESCRIPTION:Wabash Valley Progressives is hosting the 7th Annual Festival Latino on September 21\, 2024 from 4-11 p.m at Patrick Henry Square in downtown Vincennes. Festival Latino honors our Latino community with traditional dance\, live music\, great food\, and activities for kids. Free and open to the public. Featuring live mariachi music and a live salsa band\, and traditional dance by Ballet Folklorico Mosaicos. Food! Music! Mariachis and more!
X-ALT-DESC;FMTTYPE=text/html:Wabash Valley Progressives is hosting the 7th Annual Festival Latino on September 21\, 2024 from 4-11 p.m at Patrick Henry Square in downtown Vincennes. Festival Latino honors our Latino community with traditional dance\, live music\, great food\, and activities for kids. Free and open to the public. Featuring live mariachi music and a live salsa band\, and traditional dance by Ballet Folklorico Mosaicos. Food! Music! Mariachis and more!
LOCATION:Downtown Vincennes\, Patrick Henry Square
UID:e.3273.3485
SEQUENCE:3
DTSTAMP:20260419T181828Z
URL:https://business.knoxcountychamber.com/events/details/festival-latino-09-21-2024-3485
END:VEVENT

END:VCALENDAR
