BEGIN:VCALENDAR
VERSION:2.0
PRODID:-//ChamberMaster//Event Calendar 2.0//EN
METHOD:PUBLISH
X-PUBLISHED-TTL:P3D
REFRESH-INTERVAL:P3D
CALSCALE:GREGORIAN
BEGIN:VEVENT
DTSTART:20210821T123000Z
DTEND:20210821T140000Z
X-MICROSOFT-CDO-ALLDAYEVENT:FALSE
SUMMARY:FREE Work Community Workout
DESCRIPTION:FREE Community Workout Event\n\n8:30 and 10:00\nCome & workout at Iron Fitness for FREE! See what the Metcon classes are all about! This free community workout will be at both the 8:30 and 10am classes on Saturday\, Aug 21st. We invite ANYONE ages 16 & up! Bring as many friends\, relatives & coworkers as you would like!    Need more info? Call Sandy at 812-886-4162
X-ALT-DESC;FMTTYPE=text/html:FREE Community Workout Event<br />\n8:30 and 10:00\n<div>Come &amp\; workout at Iron Fitness for FREE! See what the Metcon classes are all about! This free community workout will be at both the 8:30 and 10am classes on Saturday\, Aug 21st. We invite ANYONE ages 16 &amp\; up! Bring as many friends\, relatives &amp\; coworkers as you would like!&nbsp\; &nbsp\; Need more info? Call Sandy at 812-886-4162</div>\n
LOCATION:Iron Warehouse 670 East Cloverdale Vincennes IN 47591 812-886-4162
UID:e.3273.176
SEQUENCE:3
DTSTAMP:20260422T182208Z
URL:https://business.knoxcountychamber.com/events/details/free-work-community-workout-176
END:VEVENT

END:VCALENDAR
