BEGIN:VCALENDAR
VERSION:2.0
PRODID:-//ChamberMaster//Event Calendar 2.0//EN
METHOD:PUBLISH
X-PUBLISHED-TTL:P3D
REFRESH-INTERVAL:P3D
CALSCALE:GREGORIAN
BEGIN:VEVENT
DTSTART:20210609T140000Z
DTEND:20210609T141500Z
X-MICROSOFT-CDO-ALLDAYEVENT:FALSE
SUMMARY:Groundbreaking Ceremony - Culver's
DESCRIPTION:Join us for the Groundbreaking Ceremony for the new Vincennes Culver's!\n\n\n\nThey will be located at 7 Executive Blvd.\, Vincennes\, IN. The Groundbreaking will take place at 10 AM on Wednesday\, June 9 at 10 AM.
X-ALT-DESC;FMTTYPE=text/html:<div background-color:="" class="kvgmc6g5 cxmmr5t8 oygrvhab hcukyx3x c1et5uql ii04i59q" color:="" font-size:="" segoe="" style="overflow-wrap: break-word\; margin: 0px\; white-space: pre-wrap\; font-family: " ui="">\n<div dir="auto" style="font-family: inherit\;">Join us for the Groundbreaking Ceremony for the new Vincennes Culver&#39\;s!</div>\n</div>\n\n<div background-color:="" class="o9v6fnle cxmmr5t8 oygrvhab hcukyx3x c1et5uql ii04i59q" color:="" font-size:="" segoe="" style="overflow-wrap: break-word\; margin: 0.5em 0px 0px\; white-space: pre-wrap\; font-family: " ui="">\n<div dir="auto" style="font-family: inherit\;">They will be located at 7 Executive Blvd.\, Vincennes\, IN. The Groundbreaking will take place at 10 AM on Wednesday\, June 9 at 10 AM.</div>\n</div>\n
LOCATION:
UID:e.3273.163
SEQUENCE:3
DTSTAMP:20260422T194636Z
URL:https://business.knoxcountychamber.com/events/details/groundbreaking-ceremony-culver-s-163
END:VEVENT

END:VCALENDAR
