BEGIN:VCALENDAR
VERSION:2.0
PRODID:-//ChamberMaster//Event Calendar 2.0//EN
METHOD:PUBLISH
X-PUBLISHED-TTL:P3D
REFRESH-INTERVAL:P3D
CALSCALE:GREGORIAN
BEGIN:VEVENT
DTSTART:20210520T133000Z
DTEND:20210520T134500Z
X-MICROSOFT-CDO-ALLDAYEVENT:FALSE
SUMMARY:Groundbreaking Ceremony - Old National Bank
DESCRIPTION:Join us for a Groundbreaking Ceremony for Old National Bank!\n\nOld National Bank is hosting a groundbreaking at 100 South 6th Street in Vincennes. Mayor Yochum\, Chamber President Jamie Neal and other community and business leaders will gather on May 20 at 9:30 a.m. for an official groundbreaking. Community members are invited to attend.\n\nThe new\, energy-efficient building will include a conversation area\, enclosed drive thru\, easy access boxes and 24-Hour ATM.\n\nThe new location will continue to offer checking and savings accounts\, commercial lending\, wealth management and mortgage services.\n\nDate: Thursday\, May 20\n\nTime: 9:30 AM\n\nLocation: 100 S. 6th St.\, Vincennes
X-ALT-DESC;FMTTYPE=text/html:<div background-color:="" class="kvgmc6g5 cxmmr5t8 oygrvhab hcukyx3x c1et5uql" color:="" font-size:="" segoe="" style="overflow-wrap: break-word\; margin: 0px\; font-family: " ui=""><span style="color:#000000\;">Join us for a Groundbreaking Ceremony for Old National Bank!</span></div>\n\n<div background-color:="" class="o9v6fnle cxmmr5t8 oygrvhab hcukyx3x c1et5uql" color:="" font-size:="" segoe="" style="overflow-wrap: break-word\; margin: 0.5em 0px 0px\; font-family: " ui=""><span style="color:#000000\;">Old National Bank is hosting a groundbreaking at 100 South 6th Street in Vincennes. Mayor Yochum\, Chamber President Jamie Neal and other community and business leaders will gather on May 20 at 9:30 a.m. for an official groundbreaking. Community members are invited to attend.</span></div>\n\n<div background-color:="" class="o9v6fnle cxmmr5t8 oygrvhab hcukyx3x c1et5uql" color:="" font-size:="" segoe="" style="overflow-wrap: break-word\; margin: 0.5em 0px 0px\; font-family: " ui=""><span style="color:#000000\;">The new\, energy-efficient building will include a conversation area\, enclosed drive thru\, easy access boxes and 24-Hour ATM.</span></div>\n\n<div background-color:="" class="o9v6fnle cxmmr5t8 oygrvhab hcukyx3x c1et5uql" color:="" font-size:="" segoe="" style="overflow-wrap: break-word\; margin: 0.5em 0px 0px\; font-family: " ui=""><span style="color:#000000\;">The new location will continue to offer checking and savings accounts\, commercial lending\, wealth management and mortgage services.</span></div>\n\n<div background-color:="" class="o9v6fnle cxmmr5t8 oygrvhab hcukyx3x c1et5uql" color:="" font-size:="" segoe="" style="overflow-wrap: break-word\; margin: 0.5em 0px 0px\; font-family: " ui=""><span style="color:#000000\;">Date: Thursday\, May 20<br />\nTime: 9:30 AM<br />\nLocation: 100 S. 6th St.\, Vincennes</span></div>\n
LOCATION:
UID:e.3273.159
SEQUENCE:3
DTSTAMP:20260424T100224Z
URL:https://business.knoxcountychamber.com/events/details/groundbreaking-ceremony-old-national-bank-159
END:VEVENT

END:VCALENDAR
