BEGIN:VCALENDAR
VERSION:2.0
PRODID:-//ChamberMaster//Event Calendar 2.0//EN
METHOD:PUBLISH
X-PUBLISHED-TTL:P3D
REFRESH-INTERVAL:P3D
CALSCALE:GREGORIAN
BEGIN:VEVENT
DTSTART:20260516T130000Z
DTEND:20260516T170000Z
X-MICROSOFT-CDO-ALLDAYEVENT:FALSE
SUMMARY:H&R Agri-Power Kubota Orange Days
DESCRIPTION:????Kubota Orange Days   One Day Only! Join us May 16 | 9 AM   1 PM at H&R Agri-Power for big savings\, family fun\, and a great cause! ?? Deals: ?? $4 OFF in-stock mower blades (one day only) ?? 10% OFF all in-stock Kubota parts (one day only) ?? Up to $2\,000 OFF your next Kubota purchase ??Farm Toy Drive   Trade. Save. Play! Donate any old farm toy & receive up to 15% OFF a new in-stock toy ?? Donations go to St Vincent De Paul ??????????? Family Fun: ??Food Trucks ??Coloring Station ??Pet Adoptions H&R Agri-Power will be supporting the City of Washington Animal Control & Adoption Facility ?? Disclaimer: Offers valid May 16\, 2026 only during Kubota Orange Days. Discounts apply to in-stock items only and are valid in-store while supplies last. Farm toy donation required to receive up to 15% off toy purchase\; donated toys must be surrendered at time of purchase
X-ALT-DESC;FMTTYPE=text/html:????Kubota Orange Days &ndash\; One Day Only! Join us May 16 | 9 AM &ndash\; 1 PM at H&amp\;R Agri-Power for big savings\, family fun\, and a great cause! ?? Deals: ?? $4 OFF in-stock mower blades (one day only) ?? 10% OFF all in-stock Kubota parts (one day only) ?? Up to $2\,000 OFF your next Kubota purchase ??Farm Toy Drive &ndash\; Trade. Save. Play! Donate any old farm toy &amp\; receive up to 15% OFF a new in-stock toy ?? Donations go to St Vincent De Paul ??????????? Family Fun: ??Food Trucks ??Coloring Station ??Pet Adoptions H&amp\;R Agri-Power will be supporting the City of Washington Animal Control &amp\; Adoption Facility ?? Disclaimer: Offers valid May 16\, 2026 only during Kubota Orange Days. Discounts apply to in-stock items only and are valid in-store while supplies last. Farm toy donation required to receive up to 15% off toy purchase\; donated toys must be surrendered at time of purchase
LOCATION:118 N 200 E Washington IN 47501
UID:e.3273.6728
SEQUENCE:3
DTSTAMP:20260424T011623Z
URL:https://business.knoxcountychamber.com/events/details/h-r-agri-power-kubota-orange-days-6728
END:VEVENT

END:VCALENDAR
