BEGIN:VCALENDAR
VERSION:2.0
PRODID:-//ChamberMaster//Event Calendar 2.0//EN
METHOD:PUBLISH
X-PUBLISHED-TTL:P3D
REFRESH-INTERVAL:P3D
CALSCALE:GREGORIAN
BEGIN:VEVENT
DTSTART:20210702T130000Z
DTEND:20210702T190000Z
X-MICROSOFT-CDO-ALLDAYEVENT:FALSE
SUMMARY:Helen Sierp Retirement Open House
DESCRIPTION:Old National Bank is grateful for Helen Seirp and her 41 years of dedicated service to both our clients and our community. Join us for an open house celebration to wish her well in retirement. Please consider bringing Helen a card for keepsake.\n\n\n\nFriday\, July 2\, 2021 from 9-3pm at Old National Bank\, located at 20 N 3rd St. Vincennes.
X-ALT-DESC;FMTTYPE=text/html:Old National Bank is grateful for Helen Seirp and her 41 years of dedicated service to both our clients and our community. Join us for an open house celebration to wish her well in retirement. Please consider bringing Helen a card for keepsake.<br />\n<br />\nFriday\, July 2\, 2021 from 9-3pm at Old National Bank\, located at 20 N 3rd St. Vincennes.
LOCATION:
UID:e.3273.166
SEQUENCE:3
DTSTAMP:20260422T194938Z
URL:https://business.knoxcountychamber.com/events/details/helen-sierp-retirement-open-house-166
END:VEVENT

END:VCALENDAR
