BEGIN:VCALENDAR
VERSION:2.0
PRODID:-//ChamberMaster//Event Calendar 2.0//EN
METHOD:PUBLISH
X-PUBLISHED-TTL:P3D
REFRESH-INTERVAL:P3D
CALSCALE:GREGORIAN
BEGIN:VEVENT
DTSTART;VALUE=DATE:20211002
DTEND;VALUE=DATE:20211003
TRANSP:TRANSPARENT
X-MICROSOFT-CDO-ALLDAYEVENT:TRUE
SUMMARY:Iron Warehouse Celebration
DESCRIPTION:Iron Warehouse Celebration\n\nRibbon Cutting  3:00\n\nTour          3:00-5:00PM\n\nConcert     5:00-10:00    \n\nJoin us for a kick off event like no other.  Meet our trainers\, coaches\, and  tour our new building.\n\nLocal recording artist JB Crocket performs at 5:00-7:00. America's Got Talent 2020 runner ups Broken Roots and Austin Edwards Band 7:00- 10:00 PM.  Food Trucks and Beer Garden on site.\n\nIron Warehouse\n\n670 E. Cloverdale Ave.\n\nVincennes IN 47591
X-ALT-DESC;FMTTYPE=text/html:Iron Warehouse Celebration<br />\nRibbon Cutting&nbsp\; 3:00<br />\nTour&nbsp\; &nbsp\; &nbsp\; &nbsp\; &nbsp\; 3:00-5:00PM<br />\nConcert&nbsp\; &nbsp\; &nbsp\;5:00-10:00&nbsp\; &nbsp\;&nbsp\;<br />\nJoin us for a kick off event like no other.&nbsp\; Meet our trainers\, coaches\, and&nbsp\; tour our new building.<br />\nLocal recording artist JB Crocket performs at 5:00-7:00. America&#39\;s Got Talent 2020 runner ups Broken Roots and Austin Edwards Band 7:00- 10:00 PM.&nbsp\; Food Trucks and Beer Garden on site.<br />\nIron Warehouse<br />\n670 E. Cloverdale Ave.<br />\nVincennes IN 47591
LOCATION:Iron Warehouse 670 E. Cloverdale Avenue Vincennes IN 47591
UID:e.3273.175
SEQUENCE:3
DTSTAMP:20260422T133657Z
URL:https://business.knoxcountychamber.com/events/details/jerri-prose-175
END:VEVENT

END:VCALENDAR
