BEGIN:VCALENDAR
VERSION:2.0
PRODID:-//ChamberMaster//Event Calendar 2.0//EN
METHOD:PUBLISH
X-PUBLISHED-TTL:P3D
REFRESH-INTERVAL:P3D
CALSCALE:GREGORIAN
BEGIN:VEVENT
DTSTART:20190709T160000Z
DTEND:20190709T170000Z
X-MICROSOFT-CDO-ALLDAYEVENT:FALSE
SUMMARY:Lunch & Learn
DESCRIPTION:A new program to the Chamber\, this program has received great responses from our members. Members enjoy a free lunch while learning about the chosen topic marketing\, digital media\,   human resources\, etc.  This program begins at 12 and ends within the hour.
X-ALT-DESC;FMTTYPE=text/html:<span style="language:en-US\;"><span style="font-family:calibri\;"><span style="font-size:12.0pt\;">A new program to the Chamber\, this program has received great responses from our members. Members enjoy a free lunch while learning about the chosen topic&mdash\;marketing\, digital media\, &nbsp\; human resources\, etc.&nbsp\; This program begins at 12 and ends within the hour.</span></span></span>
LOCATION:TBA
UID:e.3273.40
SEQUENCE:3
DTSTAMP:20260425T173052Z
URL:https://business.knoxcountychamber.com/events/details/lunch-learn-40
END:VEVENT

END:VCALENDAR
