BEGIN:VCALENDAR
VERSION:2.0
PRODID:-//ChamberMaster//Event Calendar 2.0//EN
METHOD:PUBLISH
X-PUBLISHED-TTL:P3D
REFRESH-INTERVAL:P3D
CALSCALE:GREGORIAN
BEGIN:VEVENT
DTSTART:20191211T170000Z
DTEND:20191211T180000Z
X-MICROSOFT-CDO-ALLDAYEVENT:FALSE
SUMMARY:Lunch & Learn - Good Samaritan
DESCRIPTION:Join us for a Lunch & Learn hosted by Good Samaritan at 12 PM in the Eva Hill Auditorium at GSH. This event is free for members\, and $10 for non-members.
X-ALT-DESC;FMTTYPE=text/html:Join us for a Lunch &amp\; Learn hosted by Good Samaritan at 12 PM in the Eva Hill Auditorium at GSH. This event is free for members\, and $10 for non-members.
LOCATION:
UID:e.3273.76
SEQUENCE:3
DTSTAMP:20260425T102106Z
URL:https://business.knoxcountychamber.com/events/details/lunch-learn-good-samaritan-76
END:VEVENT

END:VCALENDAR
