BEGIN:VCALENDAR
VERSION:2.0
PRODID:-//ChamberMaster//Event Calendar 2.0//EN
METHOD:PUBLISH
X-PUBLISHED-TTL:P3D
REFRESH-INTERVAL:P3D
CALSCALE:GREGORIAN
BEGIN:VEVENT
DTSTART:20240924T160000Z
DTEND:20240924T170000Z
X-MICROSOFT-CDO-ALLDAYEVENT:FALSE
SUMMARY:Lunch & Learn: Team Leadership Strategy with Tony Burkhart
DESCRIPTION:When it comes to overseeing a successful team\, being a leader that people want to follow is crucial. In this Lunch & Learn workshop\, Tony Burkhart will explore the benefits of leading by example\, creating and sustaining a positive culture\, and putting your team into positions to succeed.\n\nTony Burkhart is the President of Burkhart Insurance Agency. Under his leadership\, Burkhart Insurance earned the Indiana Independent Insurance Agency of the Year award in 2023. Beyond his role at Burkhart Insurance\, Tony serves as a board member for Pekin Insurance Company and First Bank of Carmi\, reflecting his influential presence in the financial and insurance sectors. His contributions and leadership have made a significant impact on the industry and his community.
X-ALT-DESC;FMTTYPE=text/html:<p>When it comes to overseeing a successful team\, being a leader that people want to follow is crucial. In this Lunch &amp\; Learn workshop\, Tony Burkhart will explore the benefits of leading by example\, creating and sustaining a positive culture\, and putting your team into positions to succeed.</p>\n\n<p>Tony Burkhart is the President of Burkhart Insurance Agency. Under his leadership\, Burkhart Insurance earned the Indiana Independent Insurance Agency of the Year award in 2023. Beyond his role at Burkhart Insurance\, Tony serves as a board member for Pekin Insurance Company and First Bank of Carmi\, reflecting his influential presence in the financial and insurance sectors. His contributions and leadership have made a significant impact on the industry and his community.</p>\n
LOCATION:The Pantheon 428 Main Street Vincennes\, IN 47591
UID:e.3273.5672
SEQUENCE:3
DTSTAMP:20260419T181705Z
URL:https://business.knoxcountychamber.com/events/details/lunch-learn-team-leadership-strategy-with-tony-burkhart-5672
END:VEVENT

END:VCALENDAR
