BEGIN:VCALENDAR
VERSION:2.0
PRODID:-//ChamberMaster//Event Calendar 2.0//EN
METHOD:PUBLISH
X-PUBLISHED-TTL:P3D
REFRESH-INTERVAL:P3D
CALSCALE:GREGORIAN
BEGIN:VEVENT
DTSTART:20190912T160000Z
DTEND:20190912T170000Z
X-MICROSOFT-CDO-ALLDAYEVENT:FALSE
SUMMARY:Mattress by Appointment Ribbon Cutting
DESCRIPTION:Please join us at the Ribbon Cutting for Mattress by Appointment!
X-ALT-DESC;FMTTYPE=text/html:<div style="text-align: center\;"><span style="font-size: 16px\;">Please </span><span style="font-size: 16px\; color: rgb(36\, 36\, 36)\;">join </span><span style="font-size: 16px\;">us at the Ribbon Cutting for Mattress by Appointment! </span></div>\n
LOCATION:
UID:e.3273.62
SEQUENCE:3
DTSTAMP:20260425T144112Z
URL:https://business.knoxcountychamber.com/events/details/mattress-by-appointment-ribbon-cutting-62
END:VEVENT

END:VCALENDAR
